BEGIN:VCALENDAR
VERSION:2.0
PRODID:-//Makybe Rise PS - ECPv4.9.13//NONSGML v1.0//EN
CALSCALE:GREGORIAN
METHOD:PUBLISH
X-WR-CALNAME:Makybe Rise PS
X-ORIGINAL-URL:http://www.makyberiseps.wa.edu.au
X-WR-CALDESC:Events for Makybe Rise PS
BEGIN:VTIMEZONE
TZID:UTC
BEGIN:STANDARD
TZOFFSETFROM:+0000
TZOFFSETTO:+0000
TZNAME:UTC
DTSTART:20190101T000000
END:STANDARD
END:VTIMEZONE
BEGIN:VEVENT
DTSTART;VALUE=DATE:20191210
DTEND;VALUE=DATE:20191211
DTSTAMP:20200301T154204
CREATED:20190927T061206Z
LAST-MODIFIED:20190927T061206Z
UID:2861-1575936000-1576022399@www.makyberiseps.wa.edu.au
SUMMARY:Kindy A Xmas Concert
DESCRIPTION:
URL:http://www.makyberiseps.wa.edu.au/event/kindy-a-xmas-concert/
CATEGORIES:Calendar
END:VEVENT
END:VCALENDAR