BEGIN:VCALENDAR
VERSION:2.0
PRODID:-//Makybe Rise PS - ECPv4.9.13//NONSGML v1.0//EN
CALSCALE:GREGORIAN
METHOD:PUBLISH
X-WR-CALNAME:Makybe Rise PS
X-ORIGINAL-URL:http://www.makyberiseps.wa.edu.au
X-WR-CALDESC:Events for Makybe Rise PS
BEGIN:VTIMEZONE
TZID:UTC
BEGIN:STANDARD
TZOFFSETFROM:+0000
TZOFFSETTO:+0000
TZNAME:UTC
DTSTART:20190101T000000
END:STANDARD
END:VTIMEZONE
BEGIN:VEVENT
DTSTART;TZID=UTC:20191123T093000
DTEND;TZID=UTC:20191123T120000
DTSTAMP:20200301T162149
CREATED:20191111T211827Z
LAST-MODIFIED:20191111T211827Z
UID:2943-1574501400-1574510400@www.makyberiseps.wa.edu.au
SUMMARY:Christmas Party
DESCRIPTION:
URL:http://www.makyberiseps.wa.edu.au/event/christmas-party/
CATEGORIES:Calendar
END:VEVENT
END:VCALENDAR