BEGIN:VCALENDAR
VERSION:2.0
PRODID:-//Makybe Rise PS - ECPv4.9.13//NONSGML v1.0//EN
CALSCALE:GREGORIAN
METHOD:PUBLISH
X-WR-CALNAME:Makybe Rise PS
X-ORIGINAL-URL:http://www.makyberiseps.wa.edu.au
X-WR-CALDESC:Events for Makybe Rise PS
BEGIN:VTIMEZONE
TZID:UTC
BEGIN:STANDARD
TZOFFSETFROM:+0000
TZOFFSETTO:+0000
TZNAME:UTC
DTSTART:20190101T000000
END:STANDARD
END:VTIMEZONE
BEGIN:VEVENT
DTSTART;VALUE=DATE:20190305
DTEND;VALUE=DATE:20190306
DTSTAMP:20200301T161148
CREATED:20190226T230918Z
LAST-MODIFIED:20190226T230918Z
UID:2573-1551744000-1551830399@www.makyberiseps.wa.edu.au
SUMMARY:P&C Casual Dress fundraiser
DESCRIPTION:Bring a gold coin donation to wear casual clothes today.  \n
URL:http://www.makyberiseps.wa.edu.au/event/pc-casual-dress-fundraiser/
END:VEVENT
END:VCALENDAR