BEGIN:VCALENDAR
VERSION:2.0
PRODID:-//Makybe Rise PS - ECPv4.9.13//NONSGML v1.0//EN
CALSCALE:GREGORIAN
METHOD:PUBLISH
X-WR-CALNAME:Makybe Rise PS
X-ORIGINAL-URL:http://www.makyberiseps.wa.edu.au
X-WR-CALDESC:Events for Makybe Rise PS
BEGIN:VTIMEZONE
TZID:UTC
BEGIN:STANDARD
TZOFFSETFROM:+0000
TZOFFSETTO:+0000
TZNAME:UTC
DTSTART:20190101T000000
END:STANDARD
END:VTIMEZONE
BEGIN:VEVENT
DTSTART;TZID=UTC:20190531T080000
DTEND;TZID=UTC:20190531T170000
DTSTAMP:20200301T160349
CREATED:20190129T112519Z
LAST-MODIFIED:20190129T112519Z
UID:2508-1559289600-1559322000@www.makyberiseps.wa.edu.au
SUMMARY:Student Free Day
DESCRIPTION:
URL:http://www.makyberiseps.wa.edu.au/event/student-free-day/
CATEGORIES:Calendar
END:VEVENT
END:VCALENDAR