BEGIN:VCALENDAR
VERSION:2.0
PRODID:-//Makybe Rise PS - ECPv4.9.13//NONSGML v1.0//EN
CALSCALE:GREGORIAN
METHOD:PUBLISH
X-WR-CALNAME:Makybe Rise PS
X-ORIGINAL-URL:http://www.makyberiseps.wa.edu.au
X-WR-CALDESC:Events for Makybe Rise PS
BEGIN:VTIMEZONE
TZID:UTC
BEGIN:STANDARD
TZOFFSETFROM:+0000
TZOFFSETTO:+0000
TZNAME:UTC
DTSTART:20200101T000000
END:STANDARD
END:VTIMEZONE
BEGIN:VEVENT
DTSTART;VALUE=DATE:20201026
DTEND;VALUE=DATE:20201031
DTSTAMP:20200301T162613
CREATED:20200202T044042Z
LAST-MODIFIED:20200202T044042Z
UID:3065-1603670400-1604102399@www.makyberiseps.wa.edu.au
SUMMARY:Swimming Lessons
DESCRIPTION:The first two weeks will involve students in PP\, 1\, 3 and 5. \n
URL:http://www.makyberiseps.wa.edu.au/event/swimming-lessons/
CATEGORIES:Calendar
END:VEVENT
END:VCALENDAR